BEGIN:VCALENDAR
VERSION:2.0
PRODID:-//United Technical College - ECPv6.15.18//NONSGML v1.0//EN
CALSCALE:GREGORIAN
METHOD:PUBLISH
X-ORIGINAL-URL:https://unitedtechnicalcollege.edu.np
X-WR-CALDESC:Events for United Technical College
REFRESH-INTERVAL;VALUE=DURATION:PT1H
X-Robots-Tag:noindex
X-PUBLISHED-TTL:PT1H
BEGIN:VTIMEZONE
TZID:Asia/Kathmandu
BEGIN:STANDARD
TZOFFSETFROM:+0545
TZOFFSETTO:+0545
TZNAME:+0545
DTSTART:20220101T000000
END:STANDARD
END:VTIMEZONE
BEGIN:VTIMEZONE
TZID:UTC
BEGIN:STANDARD
TZOFFSETFROM:+0000
TZOFFSETTO:+0000
TZNAME:UTC
DTSTART:20210101T000000
END:STANDARD
END:VTIMEZONE
BEGIN:VEVENT
DTSTART;TZID=Asia/Kathmandu:20260126T080000
DTEND;TZID=Asia/Kathmandu:20260127T170000
DTSTAMP:20260423T210111
CREATED:20260116T165306Z
LAST-MODIFIED:20260116T170511Z
UID:8765-1769414400-1769533200@unitedtechnicalcollege.edu.np
SUMMARY:United Tech Fusion 2082
DESCRIPTION:United Tech Club\, in collaboration with United Technical College\, is proud to announce United Tech Fusion 2082\, a technology-focused event designed to encourage innovation\, creativity\, and practical learning among students and tech enthusiasts. \nUnited Tech Fusion 2082 will feature two major competitive events: \n\n\nRobo RaceThis event challenges participants to design and control robots capable of completing a race track efficiently. It aims to enhance skills in robotics\, automation\, teamwork\, and problem-solving.Register Now: https://forms.gle/AjWgzGeAy33hvrCP9 \n\n\nProject DemonstrationIn this segment\, participants will showcase their technical and innovative projects. This event provides a platform for students to present their ideas\, explain their working models\, and demonstrate real-world applications of technology.Register Now: https://forms.gle/nSBiFcpBwiVhdtX27 \n\n\nRegistration for United Tech Fusion 2082 is now open and will remain valid until 10th Magh 2082. Interested participants are encouraged to register within the given timeframe to secure their spot. \nThe event days are scheduled for 12th and 13th Magh 2082\, during which participants will get the opportunity to compete\, learn\, and interact with fellow innovators\, mentors\, and technology enthusiasts. \nUnited Tech Fusion 2082 aims to foster a culture of innovation\, practical learning\, and collaboration while providing a competitive yet friendly environment for showcasing technical talent. Students and technology lovers are highly encouraged to participate and be a part of this exciting tech fusion.
URL:https://unitedtechnicalcollege.edu.np/event/united-tech-fusion-2082/
LOCATION:United Technical College\, Bharatpur-11\, U-TEC Chowk\, Bharatpur 44200\, Nepal\, Nepal
CATEGORIES:Tech Event
ATTACH;FMTTYPE=image/jpeg:https://unitedtechnicalcollege.edu.np/wp-content/uploads/2026/01/Registrationopen.jpg
END:VEVENT
BEGIN:VEVENT
DTSTART;TZID=Asia/Kathmandu:20251216T120000
DTEND;TZID=Asia/Kathmandu:20251224T140000
DTSTAMP:20260423T210111
CREATED:20251216T024530Z
LAST-MODIFIED:20251216T185932Z
UID:8697-1765886400-1766584800@unitedtechnicalcollege.edu.np
SUMMARY:30-Hour Linux Workshop
DESCRIPTION:
URL:https://unitedtechnicalcollege.edu.np/event/30-hour-linux-workshop/
LOCATION:United Technical College\, Bharatpur-11\, U-TEC Chowk\, Bharatpur 44200\, Nepal\, Nepal
CATEGORIES:Workshop
ATTACH;FMTTYPE=image/jpeg:https://unitedtechnicalcollege.edu.np/wp-content/uploads/2025/12/linux.jpg
END:VEVENT
BEGIN:VEVENT
DTSTART;TZID=Asia/Kathmandu:20250629T130000
DTEND;TZID=Asia/Kathmandu:20250705T140000
DTSTAMP:20260423T210111
CREATED:20250609T135753Z
LAST-MODIFIED:20250609T135753Z
UID:8389-1751202000-1751724000@unitedtechnicalcollege.edu.np
SUMMARY:7 Days Free Professional IT Training For +2 Students
DESCRIPTION:United Technical College with United Tech Club presents a FREE 7-Day Professional IT Training – specially designed for recent +2 Science stream students only!\n💡 Gain practical skills in:\n✅ Graphics Designing\n✅ Web Development\n✅ Video Editing\n🔗 Register Now: https://forms.gle/cZGUjhu9mrXN6c6c9\n📅 Start Date: 15 Ashad 2082 (Sunday)\n🕐 Time: 1:00 PM – 2:00 PM\n📍 Venue: United Technical College\n🎯 Only Science stream students are eligible. Don’t miss this exclusive opportunity to dive into the world of IT and boost your career prospects!\n#FreeITTraining #ScienceStudentsOnly #GraphicsDesign #WebDevelopment #VideoEditing #UnitedTechnicalCollege #UnitedTechClub #Bharatpur #SkillDevelopment #ITCareer #NepalStudents
URL:https://unitedtechnicalcollege.edu.np/event/7-days-free-professional-it-training-for-2-students/
LOCATION:United Technical College\, Bharatpur-11\, U-TEC Chowk\, Bharatpur 44200\, Nepal\, Nepal
CATEGORIES:Training
END:VEVENT
BEGIN:VEVENT
DTSTART;TZID=Asia/Kathmandu:20250606T100000
DTEND;TZID=Asia/Kathmandu:20250606T130000
DTSTAMP:20260423T210111
CREATED:20250520T172440Z
LAST-MODIFIED:20250520T173139Z
UID:8367-1749204000-1749214800@unitedtechnicalcollege.edu.np
SUMMARY:Idea Fest 2082
DESCRIPTION:Big ideas start with a single step—this is yours!\nIDEA FEST 2082 is calling all thinkers\, dreamers\, and doers \nBring your creativity\, your passion\, and let’s make something amazing together!\nYour idea could be the next big thing \n\nRegistration Form Link:\nhttps://forms.gle/ZtfvNzLg3LrwrHS46
URL:https://unitedtechnicalcollege.edu.np/event/idea-fest-2082/
LOCATION:United Technical College\, Bharatpur-11\, U-TEC Chowk\, Bharatpur 44200\, Nepal\, Nepal
CATEGORIES:Tech Event
END:VEVENT
BEGIN:VEVENT
DTSTART;TZID=Asia/Kathmandu:20250504T070000
DTEND;TZID=Asia/Kathmandu:20250504T210000
DTSTAMP:20260423T210111
CREATED:20250429T153140Z
LAST-MODIFIED:20250429T153220Z
UID:8336-1746342000-1746392400@unitedtechnicalcollege.edu.np
SUMMARY:What’s Next in Transportation Engineering?
DESCRIPTION:Join us for an insightful seminar tailored for MSc Transportation Engineering students\, exploring the future of transportation in the context of Nepal’s evolving infrastructure. \n🗓 Date: Baishak 21\, 2082\n⏰ Time: 7:00 AM – 9:00 AM\n🎤 Speaker: Er. Hemant Tiwari\n(General Secretary\, Society of Transportation Engineers of Nepal) \n🔹 Gain expert insights\n🔹 Discuss emerging trends & challenges\n🔹 Network with industry professionals
URL:https://unitedtechnicalcollege.edu.np/event/whats-next-in-transportation-engineering/
LOCATION:United Technical College\, Bharatpur-11\, U-TEC Chowk\, Bharatpur 44200\, Nepal\, Nepal
CATEGORIES:Conference
END:VEVENT
BEGIN:VEVENT
DTSTART;TZID=Asia/Kathmandu:20250429T140000
DTEND;TZID=Asia/Kathmandu:20250513T160000
DTSTAMP:20260423T210111
CREATED:20250428T075857Z
LAST-MODIFIED:20250428T080301Z
UID:8332-1745935200-1747152000@unitedtechnicalcollege.edu.np
SUMMARY:HTML/ CSS JS/ Git 30HR Workshop
DESCRIPTION:Master the Core Skills of Web Development in Just 30 Hours! \nJoin our intensive\, hands-on workshop designed to equip you with essential front-end development skills.In this program\, you’ll learn to build beautiful\, responsive websites using HTML5 and CSS3\, make them interactive with JavaScript\, and manage your projects efficiently using Git and GitHub. \nWhether you’re a beginner or looking to strengthen your foundation\, this workshop will provide you with the real-world knowledge and practical skills needed to kickstart your career in web development.
URL:https://unitedtechnicalcollege.edu.np/event/html-css-js-git-30hr-workshop/
LOCATION:United Technical College\, Bharatpur-11\, U-TEC Chowk\, Bharatpur 44200\, Nepal\, Nepal
CATEGORIES:Training
END:VEVENT
BEGIN:VEVENT
DTSTART;TZID=Asia/Kathmandu:20250428T200000
DTEND;TZID=Asia/Kathmandu:20250528T210000
DTSTAMP:20260423T210111
CREATED:20250428T080227Z
LAST-MODIFIED:20250429T152942Z
UID:8334-1745870400-1748466000@unitedtechnicalcollege.edu.np
SUMMARY:DevOps Training
DESCRIPTION:Master Modern Software Development and Deployment Techniques \nOur DevOps Training is designed to equip you with the essential skills to automate\, integrate\, and manage development and operations workflows.Learn the real-world practices that top companies use to deliver faster\, more reliable software — and build a strong foundation for a rewarding career in the DevOps field.
URL:https://unitedtechnicalcollege.edu.np/event/devops-training/
LOCATION:United Technical College\, Bharatpur-11\, U-TEC Chowk\, Bharatpur 44200\, Nepal\, Nepal
CATEGORIES:Training
END:VEVENT
BEGIN:VEVENT
DTSTART;TZID=Asia/Kathmandu:20241204T080000
DTEND;TZID=Asia/Kathmandu:20241206T170000
DTSTAMP:20260423T210111
CREATED:20241014T051339Z
LAST-MODIFIED:20241014T051423Z
UID:8148-1733299200-1733504400@unitedtechnicalcollege.edu.np
SUMMARY:U-TEC Hackathon Beta
DESCRIPTION:Get ready for 𝐔-𝐓𝐄𝐂 𝐇𝐚𝐜𝐤𝐚𝐭𝐡𝐨𝐧 𝐁𝐞𝐭𝐚 (β) – 𝐜𝐫𝐚𝐟𝐭 \,𝐜𝐨𝐝𝐞 𝐚𝐧𝐝 𝐜𝐨𝐧𝐪𝐮𝐞𝐫 🌟 \n📅 Dates: December 4–6\, 2024\n📍 Location: United Technical College\, Bharatpur-11\, Chitwan\n🔗 Stay tuned! Registration will open soon.\nLet the countdown begin! ⏳
URL:https://unitedtechnicalcollege.edu.np/event/u-tec-hackathon-beta/
LOCATION:United Technical College\, Bharatpur-11\, U-TEC Chowk\, Bharatpur 44200\, Nepal\, Nepal
CATEGORIES:Tech Event
END:VEVENT
BEGIN:VEVENT
DTSTART;TZID=Asia/Kathmandu:20240922T080000
DTEND;TZID=Asia/Kathmandu:20240922T170000
DTSTAMP:20260423T210111
CREATED:20240703T161156Z
LAST-MODIFIED:20240703T162124Z
UID:7839-1726992000-1727024400@unitedtechnicalcollege.edu.np
SUMMARY:International Conference on 'Sustainable Construction Technology & Management
DESCRIPTION:Join the International Conference on ‘Sustainable Construction Technology & Management: Challenges and Opportunities’ (SCTM-24). Submit your abstracts addressing themes in Civil\, Computer\, Environmental\, Electrical\, and Construction Management\, among others\, by August 16\, 2024. Accepted abstracts will be published in the conference proceedings. Mark your calendars for the conference on September 22\, 2024.\nFor more details\, contact rmc@unitedtechnicalcollege.edu.np.
URL:https://unitedtechnicalcollege.edu.np/event/international-conference-on-sustainable-construction-technology-management/
LOCATION:United Technical College\, Bharatpur-11\, U-TEC Chowk\, Bharatpur 44200\, Nepal\, Nepal
CATEGORIES:Conference
ATTACH;FMTTYPE=image/png:https://unitedtechnicalcollege.edu.np/wp-content/uploads/2024/07/conference-1.png
END:VEVENT
BEGIN:VEVENT
DTSTART;TZID=Asia/Kathmandu:20240801T170000
DTEND;TZID=Asia/Kathmandu:20240801T190000
DTSTAMP:20260423T210111
CREATED:20240725T160222Z
LAST-MODIFIED:20240725T160711Z
UID:7936-1722531600-1722538800@unitedtechnicalcollege.edu.np
SUMMARY:Research topic selection and proposal preparation
DESCRIPTION:Planning to prepare your thesis proposals? Join us for a vital class on research title selection and proposal preparation\, key steps for your thesis journey! \n📅 Date: Sharawan 17 (confirm your availability)\n🕔 Time: 17:00 PM\n📍 Venue: United Technical College \nConfirm your participation ASAP to help us finalize arrangements. Let’s refine your research topics and proposals together! \nBest regards\,\nDr. Arjun Baniya\nResearch Director\, United Technical College \n#MastersStudents #ThesisPreparation #Research #UnitedTechnicalCollege
URL:https://unitedtechnicalcollege.edu.np/event/research-topic-selection-and-proposal-preparation/
LOCATION:United Technical College\, Bharatpur-11\, U-TEC Chowk\, Bharatpur 44200\, Nepal\, Nepal
CATEGORIES:Training
ATTACH;FMTTYPE=image/png:https://unitedtechnicalcollege.edu.np/wp-content/uploads/2024/07/conference.png
END:VEVENT
BEGIN:VEVENT
DTSTART;TZID=Asia/Kathmandu:20240523T073000
DTEND;TZID=Asia/Kathmandu:20240525T170000
DTSTAMP:20260423T210111
CREATED:20240723T033123Z
LAST-MODIFIED:20240723T033439Z
UID:7905-1716449400-1716656400@unitedtechnicalcollege.edu.np
SUMMARY:Three-day training on academic research focusing on analytical tools
DESCRIPTION:Join us for a three-day training on academic research focusing on analytical tools\, organized by United Technical College with the support of the University Grant Commission\, Nepal. Enhance your research skills and learn to effectively utilize analytical tools
URL:https://unitedtechnicalcollege.edu.np/event/three-day-training-on-academic-research-focusing-on-analytical-tools/
LOCATION:United Technical College\, Bharatpur-11\, U-TEC Chowk\, Bharatpur 44200\, Nepal\, Nepal
CATEGORIES:Training
ATTACH;FMTTYPE=image/jpeg:https://unitedtechnicalcollege.edu.np/wp-content/uploads/2024/07/three-day-training.jpg
END:VEVENT
BEGIN:VEVENT
DTSTART;TZID=Asia/Kathmandu:20240509T063000
DTEND;TZID=Asia/Kathmandu:20240509T073000
DTSTAMP:20260423T210111
CREATED:20240723T033837Z
LAST-MODIFIED:20240723T033837Z
UID:7911-1715236200-1715239800@unitedtechnicalcollege.edu.np
SUMMARY:Developing a Semester Project and Research
DESCRIPTION:From ideas to innovation! 🌟 Join us as we dive into semester project research session. Let’s explore\, discover\, and create something extraordinary together.
URL:https://unitedtechnicalcollege.edu.np/event/developing-a-semester-project-and-research/
LOCATION:United Technical College\, Bharatpur-11\, U-TEC Chowk\, Bharatpur 44200\, Nepal\, Nepal
CATEGORIES:Training
ATTACH;FMTTYPE=image/jpeg:https://unitedtechnicalcollege.edu.np/wp-content/uploads/2024/07/sem-proj.jpg
END:VEVENT
BEGIN:VEVENT
DTSTART;TZID=Asia/Kathmandu:20240508T150000
DTEND;TZID=Asia/Kathmandu:20240508T170000
DTSTAMP:20260423T210111
CREATED:20240723T034614Z
LAST-MODIFIED:20240723T034929Z
UID:7918-1715180400-1715187600@unitedtechnicalcollege.edu.np
SUMMARY:AutoCAD Training
DESCRIPTION:Unlock your creativity and precision! Join our AutoCAD training for Civil 5th Sem Civil Engineering students starting May 8th\, 2024. Don’t miss out on this opportunity to master the tools of design and drafting! Edited!
URL:https://unitedtechnicalcollege.edu.np/event/autocad-training/
LOCATION:United Technical College\, Bharatpur-11\, U-TEC Chowk\, Bharatpur 44200\, Nepal\, Nepal
CATEGORIES:Training
ATTACH;FMTTYPE=image/jpeg:https://unitedtechnicalcollege.edu.np/wp-content/uploads/2024/07/autocad-training.jpg
END:VEVENT
BEGIN:VEVENT
DTSTART;TZID=Asia/Kathmandu:20240428T130000
DTEND;TZID=Asia/Kathmandu:20240502T170000
DTSTAMP:20260423T210111
CREATED:20240723T034213Z
LAST-MODIFIED:20240723T034416Z
UID:7914-1714309200-1714669200@unitedtechnicalcollege.edu.np
SUMMARY:A week of PLC (Programmable Logic Controller) training
DESCRIPTION:Join us for a week of PLC (Programmable Logic Controller) training from 28th April. Learn about PLC hardware\, software\, basic programming\, and creating new applications. This training will enhance your skills and knowledge in PLC programming\, empowering you to excel in your roles. Don’t miss this valuable opportunity!
URL:https://unitedtechnicalcollege.edu.np/event/a-week-of-plc-programmable-logic-controller-training/
LOCATION:United Technical College\, Bharatpur-11\, U-TEC Chowk\, Bharatpur 44200\, Nepal\, Nepal
CATEGORIES:Workshop
ATTACH;FMTTYPE=image/jpeg:https://unitedtechnicalcollege.edu.np/wp-content/uploads/2024/07/plc-training.jpg
END:VEVENT
BEGIN:VEVENT
DTSTART;VALUE=DATE:20231227
DTEND;VALUE=DATE:20231229
DTSTAMP:20260423T210111
CREATED:20231117T132150Z
LAST-MODIFIED:20240703T151140Z
UID:7568-1703635200-1703807999@unitedtechnicalcollege.edu.np
SUMMARY:United Tech Fusion 2080
DESCRIPTION:Embark on a journey into the future at 𝐔𝐧𝐢𝐭𝐞𝐝 𝐓𝐞𝐜𝐡 𝐅𝐮𝐬𝐢𝐨𝐧 𝟐𝟎𝟖𝟎\, hosted by 𝐔𝐧𝐢𝐭𝐞𝐝 𝐓𝐞𝐜𝐡 𝐂𝐥𝐮𝐛. Immerse yourself in the thrill of 𝐂𝐚𝐩𝐭𝐮𝐫𝐞 𝐭𝐡𝐞 𝐅𝐥𝐚𝐠 \, experience the frenzy of 𝐑𝐨𝐛𝐨 𝐅𝐨𝐨𝐭𝐛𝐚𝐥𝐥 \, and witness the brilliance of 𝐏𝐫𝐨𝐣𝐞𝐜𝐭 𝐃𝐞𝐦𝐨𝐧𝐬𝐭𝐫𝐚𝐭𝐢𝐨𝐧 !\n\n\nCircle your calendars for two days of unparalleled tech excitement and redefine your perception of innovation!
URL:https://unitedtechnicalcollege.edu.np/event/united-tech-fusion-2080/
LOCATION:United Technical College\, Bharatpur-11\, U-TEC Chowk\, Bharatpur 44200\, Nepal\, Nepal
CATEGORIES:Tech Event
ATTACH;FMTTYPE=image/png:https://unitedtechnicalcollege.edu.np/wp-content/uploads/2023/11/event-date.png
END:VEVENT
BEGIN:VEVENT
DTSTART;TZID=UTC:20221102T080000
DTEND;TZID=UTC:20221104T170000
DTSTAMP:20260423T210111
CREATED:20220907T032703Z
LAST-MODIFIED:20231117T133608Z
UID:6414-1667376000-1667581200@unitedtechnicalcollege.edu.np
SUMMARY:U-Tec Hackathon Alfa
DESCRIPTION:
URL:https://unitedtechnicalcollege.edu.np/event/utech-alfa-hackathone/
LOCATION:United Technical College\, Bharatpur-11\, U-TEC Chowk\, Bharatpur 44200\, Nepal\, Nepal
CATEGORIES:Tech Event
END:VEVENT
END:VCALENDAR