BEGIN:VCALENDAR
VERSION:2.0
PRODID:-//United Technical College - ECPv6.15.18//NONSGML v1.0//EN
CALSCALE:GREGORIAN
METHOD:PUBLISH
X-ORIGINAL-URL:https://unitedtechnicalcollege.edu.np
X-WR-CALDESC:Events for United Technical College
REFRESH-INTERVAL;VALUE=DURATION:PT1H
X-Robots-Tag:noindex
X-PUBLISHED-TTL:PT1H
BEGIN:VTIMEZONE
TZID:Asia/Kathmandu
BEGIN:STANDARD
TZOFFSETFROM:+0545
TZOFFSETTO:+0545
TZNAME:+0545
DTSTART:20230101T000000
END:STANDARD
END:VTIMEZONE
BEGIN:VEVENT
DTSTART;TZID=Asia/Kathmandu:20250629T130000
DTEND;TZID=Asia/Kathmandu:20250705T140000
DTSTAMP:20260424T000002
CREATED:20250609T135753Z
LAST-MODIFIED:20250609T135753Z
UID:8389-1751202000-1751724000@unitedtechnicalcollege.edu.np
SUMMARY:7 Days Free Professional IT Training For +2 Students
DESCRIPTION:United Technical College with United Tech Club presents a FREE 7-Day Professional IT Training – specially designed for recent +2 Science stream students only!\n💡 Gain practical skills in:\n✅ Graphics Designing\n✅ Web Development\n✅ Video Editing\n🔗 Register Now: https://forms.gle/cZGUjhu9mrXN6c6c9\n📅 Start Date: 15 Ashad 2082 (Sunday)\n🕐 Time: 1:00 PM – 2:00 PM\n📍 Venue: United Technical College\n🎯 Only Science stream students are eligible. Don’t miss this exclusive opportunity to dive into the world of IT and boost your career prospects!\n#FreeITTraining #ScienceStudentsOnly #GraphicsDesign #WebDevelopment #VideoEditing #UnitedTechnicalCollege #UnitedTechClub #Bharatpur #SkillDevelopment #ITCareer #NepalStudents
URL:https://unitedtechnicalcollege.edu.np/event/7-days-free-professional-it-training-for-2-students/
LOCATION:United Technical College\, Bharatpur-11\, U-TEC Chowk\, Bharatpur 44200\, Nepal\, Nepal
CATEGORIES:Training
END:VEVENT
BEGIN:VEVENT
DTSTART;TZID=Asia/Kathmandu:20250429T140000
DTEND;TZID=Asia/Kathmandu:20250513T160000
DTSTAMP:20260424T000002
CREATED:20250428T075857Z
LAST-MODIFIED:20250428T080301Z
UID:8332-1745935200-1747152000@unitedtechnicalcollege.edu.np
SUMMARY:HTML/ CSS JS/ Git 30HR Workshop
DESCRIPTION:Master the Core Skills of Web Development in Just 30 Hours! \nJoin our intensive\, hands-on workshop designed to equip you with essential front-end development skills.In this program\, you’ll learn to build beautiful\, responsive websites using HTML5 and CSS3\, make them interactive with JavaScript\, and manage your projects efficiently using Git and GitHub. \nWhether you’re a beginner or looking to strengthen your foundation\, this workshop will provide you with the real-world knowledge and practical skills needed to kickstart your career in web development.
URL:https://unitedtechnicalcollege.edu.np/event/html-css-js-git-30hr-workshop/
LOCATION:United Technical College\, Bharatpur-11\, U-TEC Chowk\, Bharatpur 44200\, Nepal\, Nepal
CATEGORIES:Training
END:VEVENT
BEGIN:VEVENT
DTSTART;TZID=Asia/Kathmandu:20250428T200000
DTEND;TZID=Asia/Kathmandu:20250528T210000
DTSTAMP:20260424T000002
CREATED:20250428T080227Z
LAST-MODIFIED:20250429T152942Z
UID:8334-1745870400-1748466000@unitedtechnicalcollege.edu.np
SUMMARY:DevOps Training
DESCRIPTION:Master Modern Software Development and Deployment Techniques \nOur DevOps Training is designed to equip you with the essential skills to automate\, integrate\, and manage development and operations workflows.Learn the real-world practices that top companies use to deliver faster\, more reliable software — and build a strong foundation for a rewarding career in the DevOps field.
URL:https://unitedtechnicalcollege.edu.np/event/devops-training/
LOCATION:United Technical College\, Bharatpur-11\, U-TEC Chowk\, Bharatpur 44200\, Nepal\, Nepal
CATEGORIES:Training
END:VEVENT
BEGIN:VEVENT
DTSTART;TZID=Asia/Kathmandu:20240801T170000
DTEND;TZID=Asia/Kathmandu:20240801T190000
DTSTAMP:20260424T000002
CREATED:20240725T160222Z
LAST-MODIFIED:20240725T160711Z
UID:7936-1722531600-1722538800@unitedtechnicalcollege.edu.np
SUMMARY:Research topic selection and proposal preparation
DESCRIPTION:Planning to prepare your thesis proposals? Join us for a vital class on research title selection and proposal preparation\, key steps for your thesis journey! \n📅 Date: Sharawan 17 (confirm your availability)\n🕔 Time: 17:00 PM\n📍 Venue: United Technical College \nConfirm your participation ASAP to help us finalize arrangements. Let’s refine your research topics and proposals together! \nBest regards\,\nDr. Arjun Baniya\nResearch Director\, United Technical College \n#MastersStudents #ThesisPreparation #Research #UnitedTechnicalCollege
URL:https://unitedtechnicalcollege.edu.np/event/research-topic-selection-and-proposal-preparation/
LOCATION:United Technical College\, Bharatpur-11\, U-TEC Chowk\, Bharatpur 44200\, Nepal\, Nepal
CATEGORIES:Training
ATTACH;FMTTYPE=image/png:https://unitedtechnicalcollege.edu.np/wp-content/uploads/2024/07/conference.png
END:VEVENT
BEGIN:VEVENT
DTSTART;TZID=Asia/Kathmandu:20240523T073000
DTEND;TZID=Asia/Kathmandu:20240525T170000
DTSTAMP:20260424T000002
CREATED:20240723T033123Z
LAST-MODIFIED:20240723T033439Z
UID:7905-1716449400-1716656400@unitedtechnicalcollege.edu.np
SUMMARY:Three-day training on academic research focusing on analytical tools
DESCRIPTION:Join us for a three-day training on academic research focusing on analytical tools\, organized by United Technical College with the support of the University Grant Commission\, Nepal. Enhance your research skills and learn to effectively utilize analytical tools
URL:https://unitedtechnicalcollege.edu.np/event/three-day-training-on-academic-research-focusing-on-analytical-tools/
LOCATION:United Technical College\, Bharatpur-11\, U-TEC Chowk\, Bharatpur 44200\, Nepal\, Nepal
CATEGORIES:Training
ATTACH;FMTTYPE=image/jpeg:https://unitedtechnicalcollege.edu.np/wp-content/uploads/2024/07/three-day-training.jpg
END:VEVENT
BEGIN:VEVENT
DTSTART;TZID=Asia/Kathmandu:20240509T063000
DTEND;TZID=Asia/Kathmandu:20240509T073000
DTSTAMP:20260424T000002
CREATED:20240723T033837Z
LAST-MODIFIED:20240723T033837Z
UID:7911-1715236200-1715239800@unitedtechnicalcollege.edu.np
SUMMARY:Developing a Semester Project and Research
DESCRIPTION:From ideas to innovation! 🌟 Join us as we dive into semester project research session. Let’s explore\, discover\, and create something extraordinary together.
URL:https://unitedtechnicalcollege.edu.np/event/developing-a-semester-project-and-research/
LOCATION:United Technical College\, Bharatpur-11\, U-TEC Chowk\, Bharatpur 44200\, Nepal\, Nepal
CATEGORIES:Training
ATTACH;FMTTYPE=image/jpeg:https://unitedtechnicalcollege.edu.np/wp-content/uploads/2024/07/sem-proj.jpg
END:VEVENT
BEGIN:VEVENT
DTSTART;TZID=Asia/Kathmandu:20240508T150000
DTEND;TZID=Asia/Kathmandu:20240508T170000
DTSTAMP:20260424T000002
CREATED:20240723T034614Z
LAST-MODIFIED:20240723T034929Z
UID:7918-1715180400-1715187600@unitedtechnicalcollege.edu.np
SUMMARY:AutoCAD Training
DESCRIPTION:Unlock your creativity and precision! Join our AutoCAD training for Civil 5th Sem Civil Engineering students starting May 8th\, 2024. Don’t miss out on this opportunity to master the tools of design and drafting! Edited!
URL:https://unitedtechnicalcollege.edu.np/event/autocad-training/
LOCATION:United Technical College\, Bharatpur-11\, U-TEC Chowk\, Bharatpur 44200\, Nepal\, Nepal
CATEGORIES:Training
ATTACH;FMTTYPE=image/jpeg:https://unitedtechnicalcollege.edu.np/wp-content/uploads/2024/07/autocad-training.jpg
END:VEVENT
END:VCALENDAR